BEGIN:VCALENDAR
VERSION:2.0
PRODID:-//Paulinenaue - ECPv6.15.20//NONSGML v1.0//EN
CALSCALE:GREGORIAN
METHOD:PUBLISH
X-WR-CALNAME:Paulinenaue
X-ORIGINAL-URL:https://paulinenaue.info
X-WR-CALDESC:Veranstaltungen für Paulinenaue
REFRESH-INTERVAL;VALUE=DURATION:PT1H
X-Robots-Tag:noindex
X-PUBLISHED-TTL:PT1H
BEGIN:VTIMEZONE
TZID:Europe/Berlin
BEGIN:DAYLIGHT
TZOFFSETFROM:+0100
TZOFFSETTO:+0200
TZNAME:CEST
DTSTART:20250330T010000
END:DAYLIGHT
BEGIN:STANDARD
TZOFFSETFROM:+0200
TZOFFSETTO:+0100
TZNAME:CET
DTSTART:20251026T010000
END:STANDARD
BEGIN:DAYLIGHT
TZOFFSETFROM:+0100
TZOFFSETTO:+0200
TZNAME:CEST
DTSTART:20260329T010000
END:DAYLIGHT
BEGIN:STANDARD
TZOFFSETFROM:+0200
TZOFFSETTO:+0100
TZNAME:CET
DTSTART:20261025T010000
END:STANDARD
BEGIN:DAYLIGHT
TZOFFSETFROM:+0100
TZOFFSETTO:+0200
TZNAME:CEST
DTSTART:20270328T010000
END:DAYLIGHT
BEGIN:STANDARD
TZOFFSETFROM:+0200
TZOFFSETTO:+0100
TZNAME:CET
DTSTART:20271031T010000
END:STANDARD
END:VTIMEZONE
BEGIN:VEVENT
DTSTART;TZID=Europe/Berlin:20260424T153000
DTEND;TZID=Europe/Berlin:20260424T180000
DTSTAMP:20260424T193133
CREATED:20250921T174521Z
LAST-MODIFIED:20251118T203623Z
UID:418288-1777044600-1777053600@paulinenaue.info
SUMMARY:Baumwanderung mit Sylvia Geisel
DESCRIPTION:Über Bekanntes und weniger Bekanntes zu Bäumen und anderen Wald-Bewohnern wollen wir uns auf einer Rundtour durch die Pessiner Heide austauschen. Treffpunkt: Ende Unter den Eichen / Kläranlage
URL:https://paulinenaue.info/index.php/event/baumwanderung-mit-sylvia-geisel/
LOCATION:Unter den Eichen 27\, Unter den Eichen 27\, Paulinenaue\, Brandenburg\, 14641\, Germany
CATEGORIES:Kulturverein
ATTACH;FMTTYPE=image/jpeg:https://paulinenaue.info/wp-content/uploads/2025/09/1988-Pessiner-Heide-01.jpg
ORGANIZER;CN="Paulinenauer Kulturverein e.V.":MAILTO:kulturverein@paulinenaue.info
END:VEVENT
END:VCALENDAR