BEGIN:VCALENDAR
VERSION:2.0
PRODID:-//Paulinenaue - ECPv6.15.20//NONSGML v1.0//EN
CALSCALE:GREGORIAN
METHOD:PUBLISH
X-WR-CALNAME:Paulinenaue
X-ORIGINAL-URL:https://paulinenaue.info
X-WR-CALDESC:Veranstaltungen für Paulinenaue
REFRESH-INTERVAL;VALUE=DURATION:PT1H
X-Robots-Tag:noindex
X-PUBLISHED-TTL:PT1H
BEGIN:VTIMEZONE
TZID:Europe/Berlin
BEGIN:DAYLIGHT
TZOFFSETFROM:+0100
TZOFFSETTO:+0200
TZNAME:CEST
DTSTART:20250330T010000
END:DAYLIGHT
BEGIN:STANDARD
TZOFFSETFROM:+0200
TZOFFSETTO:+0100
TZNAME:CET
DTSTART:20251026T010000
END:STANDARD
BEGIN:DAYLIGHT
TZOFFSETFROM:+0100
TZOFFSETTO:+0200
TZNAME:CEST
DTSTART:20260329T010000
END:DAYLIGHT
BEGIN:STANDARD
TZOFFSETFROM:+0200
TZOFFSETTO:+0100
TZNAME:CET
DTSTART:20261025T010000
END:STANDARD
BEGIN:DAYLIGHT
TZOFFSETFROM:+0100
TZOFFSETTO:+0200
TZNAME:CEST
DTSTART:20270328T010000
END:DAYLIGHT
BEGIN:STANDARD
TZOFFSETFROM:+0200
TZOFFSETTO:+0100
TZNAME:CET
DTSTART:20271031T010000
END:STANDARD
END:VTIMEZONE
BEGIN:VEVENT
DTSTART;TZID=Europe/Berlin:20260425T100000
DTEND;TZID=Europe/Berlin:20260425T150000
DTSTAMP:20260425T015804
CREATED:20260323T173635Z
LAST-MODIFIED:20260323T173635Z
UID:419177-1777111200-1777129200@paulinenaue.info
SUMMARY:Floh- & Pflanzenmarkt
DESCRIPTION:Hinweise der Pauerfrauen: \nStandmiete: Ein Kuchen für das Kuchenbuffet \nAnmeldung bis zum 18.04.2026 an:\npauerfrauen@web.de oder 0173 23 57 669 \nTeller\, Tassen und Besteck können gerne mitgebracht werden \nBei schlechtem Wetter kann der Flohmarkt leider nicht stattfinden.
URL:https://paulinenaue.info/index.php/event/floh-pflanzenmarkt/
LOCATION:Karibu Grundschule Paulinenaue\, Bahnhofstr. 5A\, Paulinenaue\, Brandenburg\, 14641\, Germany
CATEGORIES:Pauerfrauen
ATTACH;FMTTYPE=image/jpeg:https://paulinenaue.info/wp-content/uploads/2026/03/2026-04-26-Flohmarkt.jpeg
END:VEVENT
BEGIN:VEVENT
DTSTART;TZID=Europe/Berlin:20260425T160000
DTEND;TZID=Europe/Berlin:20260425T160000
DTSTAMP:20260425T015804
CREATED:20260120T081517Z
LAST-MODIFIED:20260120T081517Z
UID:418853-1777132800-1777132800@paulinenaue.info
SUMMARY:Frühlingskonzert in der Pessiner Kirche
DESCRIPTION:FRÜHLINGSKONZERT\nFESTLICHE BAROCKMUSIK – MEISTER G. Ph. TELEMANN \nSamstag\, 25. April 2026\, 17 Uhr\nEvangelische Dorfkirche Pessin \n16 Uhr Kaffee und Kuchen\, ab 16:15 Uhr auf der Empore:\n„Klangmajestät – Besuch bei der Königin“\nUniverstätsorganist Dr. W. Meinhold erläutert Aufbau und Klangfarben\nder Pessiner Ratzmann-Orgel von 1821 in Wort + Ton \nDUO VIMARIS\nMirjam Meinhold\, Sopran und Blockflöten\nWieland Meinhold\, Orgel & Moderation (Weimar) \n-am Ende erbitten wir eine von Herzen kommende großzügige Spende\,\nstatt einer Eintrittskarte
URL:https://paulinenaue.info/index.php/event/fruehlingskonzert-in-der-pessiner-kirche/
LOCATION:Kirche Pessin\, Dorfstraße 14\, Pessin\, Brandenburg\, 14641\, Deutschland
CATEGORIES:Kirche
ATTACH;FMTTYPE=image/jpeg:https://paulinenaue.info/wp-content/uploads/2026/01/Orgel-Pessin.jpeg
END:VEVENT
END:VCALENDAR