BEGIN:VCALENDAR
VERSION:2.0
PRODID:-//Paulinenaue - ECPv6.15.20//NONSGML v1.0//EN
CALSCALE:GREGORIAN
METHOD:PUBLISH
X-WR-CALNAME:Paulinenaue
X-ORIGINAL-URL:https://paulinenaue.info
X-WR-CALDESC:Veranstaltungen für Paulinenaue
REFRESH-INTERVAL;VALUE=DURATION:PT1H
X-Robots-Tag:noindex
X-PUBLISHED-TTL:PT1H
BEGIN:VTIMEZONE
TZID:Europe/Berlin
BEGIN:DAYLIGHT
TZOFFSETFROM:+0100
TZOFFSETTO:+0200
TZNAME:CEST
DTSTART:20250330T010000
END:DAYLIGHT
BEGIN:STANDARD
TZOFFSETFROM:+0200
TZOFFSETTO:+0100
TZNAME:CET
DTSTART:20251026T010000
END:STANDARD
BEGIN:DAYLIGHT
TZOFFSETFROM:+0100
TZOFFSETTO:+0200
TZNAME:CEST
DTSTART:20260329T010000
END:DAYLIGHT
BEGIN:STANDARD
TZOFFSETFROM:+0200
TZOFFSETTO:+0100
TZNAME:CET
DTSTART:20261025T010000
END:STANDARD
BEGIN:DAYLIGHT
TZOFFSETFROM:+0100
TZOFFSETTO:+0200
TZNAME:CEST
DTSTART:20270328T010000
END:DAYLIGHT
BEGIN:STANDARD
TZOFFSETFROM:+0200
TZOFFSETTO:+0100
TZNAME:CET
DTSTART:20271031T010000
END:STANDARD
END:VTIMEZONE
BEGIN:VEVENT
DTSTART;TZID=Europe/Berlin:20260530T140000
DTEND;TZID=Europe/Berlin:20260530T230000
DTSTAMP:20260424T232438
CREATED:20251010T055254Z
LAST-MODIFIED:20260106T090954Z
UID:418423-1780149600-1780182000@paulinenaue.info
SUMMARY:Dorffest Paulinenaue 2026
DESCRIPTION:Die Planung des Dorffestes hat bereits begonnen. Auch in diesem Jahr wird die Veranstaltung durch die örtlichen Vereine vorbereitet. Den Termin schon jetzt vormerken.
URL:https://paulinenaue.info/index.php/event/dorffest-2026/
LOCATION:Großer Sportplatz\, Prof. Hans-Goldschmidt-Weg 1\, Paulinenaue\, Brandenburg\, 14641\, Deutschland
CATEGORIES:Gemeinde,Vereine
ATTACH;FMTTYPE=image/png:https://paulinenaue.info/wp-content/uploads/2025/10/Dorffest_Ankuendigung-2026.png
END:VEVENT
END:VCALENDAR