BEGIN:VCALENDAR
VERSION:2.0
PRODID:-//Paulinenaue - ECPv6.15.20//NONSGML v1.0//EN
CALSCALE:GREGORIAN
METHOD:PUBLISH
X-ORIGINAL-URL:https://paulinenaue.info
X-WR-CALDESC:Veranstaltungen für Paulinenaue
REFRESH-INTERVAL;VALUE=DURATION:PT1H
X-Robots-Tag:noindex
X-PUBLISHED-TTL:PT1H
BEGIN:VTIMEZONE
TZID:Europe/Berlin
BEGIN:DAYLIGHT
TZOFFSETFROM:+0100
TZOFFSETTO:+0200
TZNAME:CEST
DTSTART:20250330T010000
END:DAYLIGHT
BEGIN:STANDARD
TZOFFSETFROM:+0200
TZOFFSETTO:+0100
TZNAME:CET
DTSTART:20251026T010000
END:STANDARD
BEGIN:DAYLIGHT
TZOFFSETFROM:+0100
TZOFFSETTO:+0200
TZNAME:CEST
DTSTART:20260329T010000
END:DAYLIGHT
BEGIN:STANDARD
TZOFFSETFROM:+0200
TZOFFSETTO:+0100
TZNAME:CET
DTSTART:20261025T010000
END:STANDARD
BEGIN:DAYLIGHT
TZOFFSETFROM:+0100
TZOFFSETTO:+0200
TZNAME:CEST
DTSTART:20270328T010000
END:DAYLIGHT
BEGIN:STANDARD
TZOFFSETFROM:+0200
TZOFFSETTO:+0100
TZNAME:CET
DTSTART:20271031T010000
END:STANDARD
END:VTIMEZONE
BEGIN:VEVENT
DTSTART;TZID=Europe/Berlin:20260117T180000
DTEND;TZID=Europe/Berlin:20260117T180000
DTSTAMP:20260426T035657
CREATED:20251211T092336Z
LAST-MODIFIED:20251211T092336Z
UID:418703-1768672800-1768672800@paulinenaue.info
SUMMARY:Eisbeinessen
DESCRIPTION:  \nDie Kameradinnen und Kameraden der Freiwilligen Feuerwehr und des Fördervereins heizen am 10. Januar wieder die Gulaschkanone an und bereiten Eisbein und Sauerkraut zu.\nMan kann gleich vor Ort im Speiseraum der Paulinen-Schänke essen oder sich die Speisen mit nach Hause nehmen. \nBitte rechtzeitig\, bis spätestens 10.01.26\, anmelden.\nTelefon: 01715791719 oder 015233950380
URL:https://paulinenaue.info/index.php/event/eisbeinessen/
LOCATION:Paulinen-Schänke\, Gutshof 6\, Paulinenaue\, Brandenburg\, 14641\, Germany
CATEGORIES:Feuerwehr
ATTACH;FMTTYPE=image/jpeg:https://paulinenaue.info/wp-content/uploads/2025/12/Eisbeinessen-26-01-10.jpg
END:VEVENT
END:VCALENDAR